BEGIN:VCALENDAR
VERSION:2.0
PRODID:-//SARC - ECPv6.15.17//NONSGML v1.0//EN
CALSCALE:GREGORIAN
METHOD:PUBLISH
X-WR-CALNAME:SARC
X-ORIGINAL-URL:https://www.sanandreasregional.org/zh
X-WR-CALDESC:Events for SARC
REFRESH-INTERVAL;VALUE=DURATION:PT1H
X-Robots-Tag:noindex
X-PUBLISHED-TTL:PT1H
BEGIN:VTIMEZONE
TZID:America/Los_Angeles
BEGIN:DAYLIGHT
TZOFFSETFROM:-0800
TZOFFSETTO:-0700
TZNAME:PDT
DTSTART:20190310T100000
END:DAYLIGHT
BEGIN:STANDARD
TZOFFSETFROM:-0700
TZOFFSETTO:-0800
TZNAME:PST
DTSTART:20191103T090000
END:STANDARD
BEGIN:DAYLIGHT
TZOFFSETFROM:-0800
TZOFFSETTO:-0700
TZNAME:PDT
DTSTART:20200308T100000
END:DAYLIGHT
BEGIN:STANDARD
TZOFFSETFROM:-0700
TZOFFSETTO:-0800
TZNAME:PST
DTSTART:20201101T090000
END:STANDARD
BEGIN:DAYLIGHT
TZOFFSETFROM:-0800
TZOFFSETTO:-0700
TZNAME:PDT
DTSTART:20210314T100000
END:DAYLIGHT
BEGIN:STANDARD
TZOFFSETFROM:-0700
TZOFFSETTO:-0800
TZNAME:PST
DTSTART:20211107T090000
END:STANDARD
BEGIN:DAYLIGHT
TZOFFSETFROM:-0800
TZOFFSETTO:-0700
TZNAME:PDT
DTSTART:20220313T100000
END:DAYLIGHT
BEGIN:STANDARD
TZOFFSETFROM:-0700
TZOFFSETTO:-0800
TZNAME:PST
DTSTART:20221106T090000
END:STANDARD
BEGIN:DAYLIGHT
TZOFFSETFROM:-0800
TZOFFSETTO:-0700
TZNAME:PDT
DTSTART:20230312T100000
END:DAYLIGHT
BEGIN:STANDARD
TZOFFSETFROM:-0700
TZOFFSETTO:-0800
TZNAME:PST
DTSTART:20231105T090000
END:STANDARD
BEGIN:DAYLIGHT
TZOFFSETFROM:-0800
TZOFFSETTO:-0700
TZNAME:PDT
DTSTART:20240310T100000
END:DAYLIGHT
BEGIN:STANDARD
TZOFFSETFROM:-0700
TZOFFSETTO:-0800
TZNAME:PST
DTSTART:20241103T090000
END:STANDARD
BEGIN:DAYLIGHT
TZOFFSETFROM:-0800
TZOFFSETTO:-0700
TZNAME:PDT
DTSTART:20250309T100000
END:DAYLIGHT
BEGIN:STANDARD
TZOFFSETFROM:-0700
TZOFFSETTO:-0800
TZNAME:PST
DTSTART:20251102T090000
END:STANDARD
BEGIN:DAYLIGHT
TZOFFSETFROM:-0800
TZOFFSETTO:-0700
TZNAME:PDT
DTSTART:20260308T100000
END:DAYLIGHT
BEGIN:STANDARD
TZOFFSETFROM:-0700
TZOFFSETTO:-0800
TZNAME:PST
DTSTART:20261101T090000
END:STANDARD
END:VTIMEZONE
BEGIN:VEVENT
DTSTART;TZID=America/Los_Angeles:20250519T180000
DTEND;TZID=America/Los_Angeles:20250519T200000
DTSTAMP:20260419T142732
CREATED:20250512T203242Z
LAST-MODIFIED:20250512T230131Z
UID:65247-1747677600-1747684800@www.sanandreasregional.org
SUMMARY:SARC proposal for Enhanced Behavioral Day Program (EBDP)
DESCRIPTION:San Andreas Regional Center proposes the development of an Enhanced Behavioral Day Program (EBDP) that offers highly individualized\, person-centered supports for individuals with developmental disabilities and significant behavioral challenges. This structured\, trauma-informed program is designed to address complex needs through specialized\, evidence-based services within a therapeutic day setting. \nKey features include: \n\n1:1 evidence-based programming (SCERTS\, ABA\, PBS)\nTrauma-informed care across all service delivery\nComprehensive assessments and individualized transition plans\nExpert interdisciplinary staffing (BCBAs\, Autism Specialists\, RBTs\n\nPublic Comment Meeting included in the Board Of Directors Meeting \nDATE: May 19th\nTIME: 6pm \nSan Andreas Regional Center-Salinas Office\n1370 South Main St\nSalinas\, CA 93901 \nMeeting Registration – Zoom
URL:https://www.sanandreasregional.org/zh/event/sarc-proposal-for-enhanced-behavioral-day-program-ebdp/
LOCATION:San Andreas Regional Center Salinas\, 1370 S. Main Street\, Salinas\, 93901\, United States
CATEGORIES:Board of Directors,Other,SARC Events,Service Providers Events,Support Group
ATTACH;FMTTYPE=image/jpeg:https://www.sanandreasregional.org/app/uploads/2025/05/Emhanced-Behavioral-Day-Program-637-Meeting-Announcement-with-link-23-scaled.jpg
END:VEVENT
BEGIN:VEVENT
DTSTART;TZID=America/Los_Angeles:20250425T120000
DTEND;TZID=America/Los_Angeles:20250425T133000
DTSTAMP:20260419T142732
CREATED:20250327T233434Z
LAST-MODIFIED:20250327T234757Z
UID:65049-1745582400-1745587800@www.sanandreasregional.org
SUMMARY:28th Annual Legislative Luncheon
DESCRIPTION:28th Annual Legislative Luncheon\nHosted by: San Andreas Regional Center\nFriday\, April 25 2025 \nDoors Open: 11:00 AM \nProgram begins at 12:00 PM to 1:30 PM \nCampbell Community Center Banquet Room\n1 Campbell Ave.\, Campbell CA 95008 \nFor more information\, contact Francisco Valenzuela at: 408-210-5663 or email at fvalenzuela@sarc.org \nTo Register please visit this LINK \nDownload HERE for more information and guest speakers \n 
URL:https://www.sanandreasregional.org/zh/event/28th-annual-legislative-luncheon/
CATEGORIES:Other,SARC Events,Service Providers Events,Support Group
ATTACH;FMTTYPE=image/jpeg:https://www.sanandreasregional.org/app/uploads/2025/03/Untitled-Title-1.jpg
END:VEVENT
BEGIN:VEVENT
DTSTART;TZID=America/Los_Angeles:20230620T093000
DTEND;TZID=America/Los_Angeles:20230620T123000
DTSTAMP:20260419T142732
CREATED:20230430T040743Z
LAST-MODIFIED:20230516T165215Z
UID:60138-1687253400-1687264200@www.sanandreasregional.org
SUMMARY:Providers Symposium
DESCRIPTION:Save the Date: May 23\, 2023\, Providers Symposium \n \n“Hear4U”\,\nLet Us Work Together to be Here for the Deaf with Other Disabilities. \nWhen:      Tuesday\, June 20\, 2023            \n3 I’s: Informative; Interactive and Interesting! \nTime:       Event 9:30am-12:30pm    Doors open 8:30am \nWhere:     Big Sur Room @ SARC Office 6203 San Ignacio Ave #200 2nd FL\, San Jose\, CA\, 95119 \n Required Registration Opens May 15th & Closes June 13th NO onsite registration and NO Consumers attending!  Max #100.  \nMore details click here \nAny questions\, contact Evette Ybarra\, at eybarra@sarc.org \nClick here to Register
URL:https://www.sanandreasregional.org/zh/event/providers-symposium/
CATEGORIES:Other,SARC Events,Support Group
END:VEVENT
BEGIN:VEVENT
DTSTART;TZID=America/Los_Angeles:20230327T090000
DTEND;TZID=America/Los_Angeles:20230327T120000
DTSTAMP:20260419T142732
CREATED:20230322T174156Z
LAST-MODIFIED:20230322T224940Z
UID:59951-1679907600-1679918400@www.sanandreasregional.org
SUMMARY:Coordinated Family Support Workshop
DESCRIPTION:CFS- Workshop (1) \n  \nRegister here: zoom
URL:https://www.sanandreasregional.org/zh/event/coordinated-family-support-workshop/
LOCATION:Via Zoom
CATEGORIES:SARC Events,Support Group
END:VEVENT
BEGIN:VEVENT
DTSTART;TZID=America/Los_Angeles:20221110T160000
DTEND;TZID=America/Los_Angeles:20221110T180000
DTSTAMP:20260419T142732
CREATED:20221029T005610Z
LAST-MODIFIED:20221029T005741Z
UID:58931-1668096000-1668103200@www.sanandreasregional.org
SUMMARY:Public Meeting Announcement - 637 Waiver – Social Recreation As Additional PDS Services 
DESCRIPTION:Public Comment Meeting   \n  \nDATE: November 10\, 2022  \nTIME: 4:00pm  \nPLATFORM: VIRTUAL PRESENTATION  \n  \nZoom Registration Link: https://us06web.zoom.us/meeting/register/tZAkdOusqT0rEtOQ6lYk2pEgmpj0oP6c_oXc   \n  \nWRITTEN INPUT: Accepted through 12 pm on November 14\, 2022   \nPlease send written comments via email to  Darby Gibson at dgibson@sarc.org with  PUBLIC COMMENT in the subject line  \nor mail to   \nSan Andreas Regional Center\n6203 San Ignacio Ave\, Suite 200\,\nSan Jose\, CA 95119  \nAttention: Darby Gibson/Public Comment  
URL:https://www.sanandreasregional.org/zh/event/public-meeting-announcement-637-waiver-social-recreation-as-additional-pds-services/
LOCATION:Via Zoom
CATEGORIES:Support Group
END:VEVENT
BEGIN:VEVENT
DTSTART;TZID=America/Los_Angeles:20220928T080000
DTEND;TZID=America/Los_Angeles:20220928T170000
DTSTAMP:20260419T142732
CREATED:20220928T154452Z
LAST-MODIFIED:20220928T154651Z
UID:58734-1664352000-1664384400@www.sanandreasregional.org
SUMMARY:24th Annual Service Above Self Awards Dinner
DESCRIPTION:24th Annual Service Above Self Awards Dinner \nSaturday\, October 22\, 2022 \nVilla Ragusa \n35 S. 2nd Street\, Campbell\, Ca \n4:00pm – Registration \n5:00pm – Dinner \n6:00pm – Awards Program \n8:00pm – Dancing \nREGISTER HERE:\nhttps://www.strideevents.com/events/24th-annual-service-above-self-awards-dinner/2022/register \nDownloadable Flyer
URL:https://www.sanandreasregional.org/zh/event/24th-annual-service-above-self-awards-dinner/
CATEGORIES:SARC Events,Service Providers Events,Support Group
END:VEVENT
BEGIN:VEVENT
DTSTART;TZID=America/Los_Angeles:20220709T100000
DTEND;TZID=America/Los_Angeles:20220709T113000
DTSTAMP:20260419T142732
CREATED:20220706T004221Z
LAST-MODIFIED:20220706T005346Z
UID:57935-1657360800-1657366200@www.sanandreasregional.org
SUMMARY:El Grupo de Apoyo de Padres/Madres
DESCRIPTION:El Grupo de Apoyo de Padres/Madres en el Centro Regional de San Andreas los invita a las platicas con presentadores de agencias locales. \nSegundo Sabado de 10 AM a 11:30 AM en Zoom \nProxima Junta: Sabado\, 9 de Julio\, 2022 \nZoom Meeting: Junta \nMeeting ID: 857 4926 8229 \nPasscode: SARC \nDos Introducciones: \nOficina de Defensa de Los Derechos del Cliente “OCRA”y \nLa Familia:La Familia es una organización sin fines de lucro de alcance comunitario en el área metropolitana de la Bahía \nPara más información: Minerva Valdez (831-900-3638)\, \nMValdez@sarc.org
URL:https://www.sanandreasregional.org/zh/event/el-grupo-de-apoyo-de-padres-madres/
LOCATION:Via Zoom
CATEGORIES:Other,SARC Events,Support Group
END:VEVENT
BEGIN:VEVENT
DTSTART;TZID=America/Los_Angeles:20220419T130000
DTEND;TZID=America/Los_Angeles:20220419T150000
DTSTAMP:20260419T142732
CREATED:20220401T230934Z
LAST-MODIFIED:20220419T205602Z
UID:57142-1650373200-1650380400@www.sanandreasregional.org
SUMMARY:Self Determination - Beyond the Orientation of the Program
DESCRIPTION:San Andreas Regional Center will be hosting a Virtual Conference on Self Determination that will go “Beyond the Orientation of the Program”.  The presentation will be hosted by San Andreas managers and translated in Spanish and Vietnamese for families needing that option. The presentation will also be available via close captioning for anyone needing that option as well. \n  \nPresentations: \nSelf-Determination-Beyond-the-Orientation-of-the-Program \nSelf-Determination-Beyond-the-Orientation-of-the-Program-Spanish1 \nSelf-Determination-Beyond-the-Orientation-of-the-Program-Vietnamese \nAttached are flyers in English\, Spanish and Vietnamese that can be shared with others so they can get themselves registered. \n\nSelf Determination Conference – English\nSelf Determination Conference – Spanish\nSelf Determination Conference – Vietnamese\n\n 
URL:https://www.sanandreasregional.org/zh/event/self-determination-beyond-the-orientation-of-the-program/
LOCATION:Via Zoom
CATEGORIES:SARC Events,Self Determination Program,Support Group
END:VEVENT
BEGIN:VEVENT
DTSTART;TZID=America/Los_Angeles:20200627T100000
DTEND;TZID=America/Los_Angeles:20200627T120000
DTSTAMP:20260419T142732
CREATED:20200213T174003Z
LAST-MODIFIED:20200213T174003Z
UID:54022-1593252000-1593259200@www.sanandreasregional.org
SUMMARY:San Jose Parent Support Group hosted by Armando Alcaraz
DESCRIPTION:San Jose Parent Support Group hosted by Armando Alcaraz \nGroups are from 10 AM – 12PM and childcare is available at no cost. \nIf you have any further questions about the Spanish parent support groups please contact SARC at 408-374-9960 and ask for Ruben Colons. \nAbout the Armando Alcaraz: Armando Alcaraz has 10 years of experience leading workshops and working with individuals\, families and businesses. He has a B.A. from the University of California\, Santa Cruz\, where he graduated with honors. Armando has also been certified for mediation through the Santa Cruz Mediation Center and graduated from Interchange\, an immersion counseling program in San Francisco. He has taught and practiced nonviolent communication and conscious meditation for the past 10 years. http://www.armandoalcaraz.com
URL:https://www.sanandreasregional.org/zh/event/san-jose-parent-support-group-hosted-by-armando-alcaraz-6/
LOCATION:San Andreas Regional Center\, 6203 San Ignacio Ave\, Suite 200\, San Jose\, CA\, 95119\, United States
CATEGORIES:Other,Support Group
END:VEVENT
BEGIN:VEVENT
DTSTART;TZID=America/Los_Angeles:20200613T100000
DTEND;TZID=America/Los_Angeles:20200613T120000
DTSTAMP:20260419T142732
CREATED:20200213T175331Z
LAST-MODIFIED:20200213T175331Z
UID:54028-1592042400-1592049600@www.sanandreasregional.org
SUMMARY:San Jose Parent Support Group
DESCRIPTION:San Jose Parent Support Group Presenting: TBD \n  \nGroups are from 10 AM – 12PM and childcare is available at no cost. \nIf you have any further questions about the Spanish parent support groups please contact SARC at 408-374-9960 and ask for Ruben Colons.
URL:https://www.sanandreasregional.org/zh/event/san-jose-parent-support-group/
LOCATION:San Andreas Regional Center\, 6203 San Ignacio Ave\, Suite 200\, San Jose\, CA\, 95119\, United States
CATEGORIES:Other,Support Group
END:VEVENT
BEGIN:VEVENT
DTSTART;TZID=America/Los_Angeles:20200530T100000
DTEND;TZID=America/Los_Angeles:20200530T120000
DTSTAMP:20260419T142732
CREATED:20200213T173536Z
LAST-MODIFIED:20200213T173536Z
UID:54014-1590832800-1590840000@www.sanandreasregional.org
SUMMARY:San Jose Parent Support Group hosted by Armando Alcaraz
DESCRIPTION:San Jose Parent Support Group hosted by Armando Alcaraz \nGroups are from 10 AM – 12PM and childcare is available at no cost. \nIf you have any further questions about the Spanish parent support groups please contact SARC at 408-374-9960 and ask for Ruben Colons. \nAbout the Armando Alcaraz: Armando Alcaraz has 10 years of experience leading workshops and working with individuals\, families and businesses. He has a B.A. from the University of California\, Santa Cruz\, where he graduated with honors. Armando has also been certified for mediation through the Santa Cruz Mediation Center and graduated from Interchange\, an immersion counseling program in San Francisco. He has taught and practiced nonviolent communication and conscious meditation for the past 10 years. http://www.armandoalcaraz.com
URL:https://www.sanandreasregional.org/zh/event/san-jose-parent-support-group-hosted-by-armando-alcaraz-5/
LOCATION:San Andreas Regional Center\, 6203 San Ignacio Ave\, Suite 200\, San Jose\, CA\, 95119\, United States
CATEGORIES:Other,Support Group
END:VEVENT
BEGIN:VEVENT
DTSTART;TZID=America/Los_Angeles:20200516T100000
DTEND;TZID=America/Los_Angeles:20200516T120000
DTSTAMP:20260419T142732
CREATED:20200213T175039Z
LAST-MODIFIED:20200213T175039Z
UID:54026-1589623200-1589630400@www.sanandreasregional.org
SUMMARY:San Jose Parent Support Group Presenting Anthony Estrada
DESCRIPTION:San Jose Parent Support Group Presenting Anthony Estrada from Uplift Family Services \nThe topic of the group talk will be  \n–Therapy Options for Individuals with developmental disabilities– \nGroups are from 10 AM – 12PM and childcare is available at no cost. \nIf you have any further questions about the Spanish parent support groups please contact SARC at 408-374-9960 and ask for Ruben Colons.
URL:https://www.sanandreasregional.org/zh/event/san-jose-parent-support-group-presenting-anthony-estrada/
LOCATION:San Andreas Regional Center\, 6203 San Ignacio Ave\, Suite 200\, San Jose\, CA\, 95119\, United States
CATEGORIES:Other,Support Group
END:VEVENT
BEGIN:VEVENT
DTSTART;TZID=America/Los_Angeles:20200502T100000
DTEND;TZID=America/Los_Angeles:20200502T120000
DTSTAMP:20260419T142732
CREATED:20200213T172403Z
LAST-MODIFIED:20200213T172823Z
UID:54016-1588413600-1588420800@www.sanandreasregional.org
SUMMARY:San Jose Parent Support Group hosted by Armando Alcaraz
DESCRIPTION:San Jose Parent Support Group hosted by Armando Alcaraz \nGroups are from 10 AM – 12PM and childcare is available at no cost. \nIf you have any further questions about the Spanish parent support groups please contact SARC at 408-374-9960 and ask for Ruben Colons. \nAbout the Armando Alcaraz: Armando Alcaraz has 10 years of experience leading workshops and working with individuals\, families and businesses. He has a B.A. from the University of California\, Santa Cruz\, where he graduated with honors. Armando has also been certified for mediation through the Santa Cruz Mediation Center and graduated from Interchange\, an immersion counseling program in San Francisco. He has taught and practiced nonviolent communication and conscious meditation for the past 10 years. http://www.armandoalcaraz.com
URL:https://www.sanandreasregional.org/zh/event/san-jose-parent-support-group-hosted-by-armando-alcaraz-2/
LOCATION:San Andreas Regional Center\, 6203 San Ignacio Ave\, Suite 200\, San Jose\, CA\, 95119\, United States
CATEGORIES:Other,Support Group
END:VEVENT
BEGIN:VEVENT
DTSTART;TZID=America/Los_Angeles:20200411T100000
DTEND;TZID=America/Los_Angeles:20200411T120000
DTSTAMP:20260419T142732
CREATED:20200213T173529Z
LAST-MODIFIED:20200213T173529Z
UID:54012-1586599200-1586606400@www.sanandreasregional.org
SUMMARY:San Jose Parent Support Group hosted by Armando Alcaraz
DESCRIPTION:San Jose Parent Support Group hosted by Armando Alcaraz \nGroups are from 10 AM – 12PM and childcare is available at no cost. \nIf you have any further questions about the Spanish parent support groups please contact SARC at 408-374-9960 and ask for Ruben Colons. \nAbout the Armando Alcaraz: Armando Alcaraz has 10 years of experience leading workshops and working with individuals\, families and businesses. He has a B.A. from the University of California\, Santa Cruz\, where he graduated with honors. Armando has also been certified for mediation through the Santa Cruz Mediation Center and graduated from Interchange\, an immersion counseling program in San Francisco. He has taught and practiced nonviolent communication and conscious meditation for the past 10 years. http://www.armandoalcaraz.com
URL:https://www.sanandreasregional.org/zh/event/san-jose-parent-support-group-hosted-by-armando-alcaraz-4/
LOCATION:San Andreas Regional Center\, 6203 San Ignacio Ave\, Suite 200\, San Jose\, CA\, 95119\, United States
CATEGORIES:Other,Support Group
END:VEVENT
BEGIN:VEVENT
DTSTART;TZID=America/Los_Angeles:20200328T100000
DTEND;TZID=America/Los_Angeles:20200328T120000
DTSTAMP:20260419T142732
CREATED:20200213T172527Z
LAST-MODIFIED:20200213T172720Z
UID:54015-1585389600-1585396800@www.sanandreasregional.org
SUMMARY:San Jose Parent Support Group hosted by Armando Alcaraz
DESCRIPTION:San Jose Parent Support Group hosted by Armando Alcaraz \nGroups are from 10 AM – 12PM and childcare is available at no cost. \nIf you have any further questions about the Spanish parent support groups please contact SARC at 408-374-9960 and ask for Ruben Colons. \nAbout the Armando Alcaraz: Armando Alcaraz has 10 years of experience leading workshops and working with individuals\, families and businesses. He has a B.A. from the University of California\, Santa Cruz\, where he graduated with honors. Armando has also been certified for mediation through the Santa Cruz Mediation Center and graduated from Interchange\, an immersion counseling program in San Francisco. He has taught and practiced nonviolent communication and conscious meditation for the past 10 years. http://www.armandoalcaraz.com
URL:https://www.sanandreasregional.org/zh/event/san-jose-parent-support-group-hosted-by-armando-alcaraz-3/
LOCATION:San Andreas Regional Center\, 6203 San Ignacio Ave\, Suite 200\, San Jose\, CA\, 95119\, United States
CATEGORIES:Other,Support Group
END:VEVENT
BEGIN:VEVENT
DTSTART;TZID=America/Los_Angeles:20200314T100000
DTEND;TZID=America/Los_Angeles:20200314T120000
DTSTAMP:20260419T142732
CREATED:20200213T174415Z
LAST-MODIFIED:20200213T174415Z
UID:54024-1584180000-1584187200@www.sanandreasregional.org
SUMMARY:San Jose Parent Support Group Presenting Dr. Jennifer Frazier
DESCRIPTION:San Jose Parent Support Group Presenting Dr. Jennifer Frazier from Uplift Family Services \nThe topic of the group talk will be  \n–How to identify and help loved ones with symptoms of anxiety and depression– \nGroups are from 10 AM – 12PM and childcare is available at no cost. \nIf you have any further questions about the Spanish parent support groups please contact SARC at 408-374-9960 and ask for Ruben Colons.
URL:https://www.sanandreasregional.org/zh/event/san-jose-parent-support-group-presenting-dr-jennifer-frazier/
LOCATION:San Andreas Regional Center\, 6203 San Ignacio Ave\, Suite 200\, San Jose\, CA\, 95119\, United States
CATEGORIES:Other,Support Group
END:VEVENT
BEGIN:VEVENT
DTSTART;TZID=America/Los_Angeles:20200215T100000
DTEND;TZID=America/Los_Angeles:20200215T120000
DTSTAMP:20260419T142732
CREATED:20200213T171822Z
LAST-MODIFIED:20200213T171822Z
UID:54005-1581760800-1581768000@www.sanandreasregional.org
SUMMARY:San Jose Parent Support Group hosted by Armando Alcaraz
DESCRIPTION:San Jose Parent Support Group hosted by Armando Alcaraz \nGroups are from 10 AM – 12PM and childcare is available at no cost. \nIf you have any further questions about the Spanish parent support groups please contact SARC at 408-374-9960 and ask for Ruben Colons. \nAbout the Armando Alcaraz: Armando Alcaraz has 10 years of experience leading workshops and working with individuals\, families and businesses. He has a B.A. from the University of California\, Santa Cruz\, where he graduated with honors. Armando has also been certified for mediation through the Santa Cruz Mediation Center and graduated from Interchange\, an immersion counseling program in San Francisco. He has taught and practiced nonviolent communication and conscious meditation for the past 10 years. http://www.armandoalcaraz.com
URL:https://www.sanandreasregional.org/zh/event/san-jose-parent-support-group-hosted-by-armando-alcaraz/
LOCATION:San Andreas Regional Center\, 6203 San Ignacio Ave\, Suite 200\, San Jose\, CA\, 95119\, United States
CATEGORIES:Other,Support Group
END:VEVENT
END:VCALENDAR