BEGIN:VCALENDAR
VERSION:2.0
PRODID:-//SARC - ECPv6.15.17//NONSGML v1.0//EN
CALSCALE:GREGORIAN
METHOD:PUBLISH
X-WR-CALNAME:SARC
X-ORIGINAL-URL:https://www.sanandreasregional.org/zh
X-WR-CALDESC:Events for SARC
REFRESH-INTERVAL;VALUE=DURATION:PT1H
X-Robots-Tag:noindex
X-PUBLISHED-TTL:PT1H
BEGIN:VTIMEZONE
TZID:America/Los_Angeles
BEGIN:DAYLIGHT
TZOFFSETFROM:-0800
TZOFFSETTO:-0700
TZNAME:PDT
DTSTART:20230312T100000
END:DAYLIGHT
BEGIN:STANDARD
TZOFFSETFROM:-0700
TZOFFSETTO:-0800
TZNAME:PST
DTSTART:20231105T090000
END:STANDARD
BEGIN:DAYLIGHT
TZOFFSETFROM:-0800
TZOFFSETTO:-0700
TZNAME:PDT
DTSTART:20240310T100000
END:DAYLIGHT
BEGIN:STANDARD
TZOFFSETFROM:-0700
TZOFFSETTO:-0800
TZNAME:PST
DTSTART:20241103T090000
END:STANDARD
BEGIN:DAYLIGHT
TZOFFSETFROM:-0800
TZOFFSETTO:-0700
TZNAME:PDT
DTSTART:20250309T100000
END:DAYLIGHT
BEGIN:STANDARD
TZOFFSETFROM:-0700
TZOFFSETTO:-0800
TZNAME:PST
DTSTART:20251102T090000
END:STANDARD
END:VTIMEZONE
BEGIN:VEVENT
DTSTART;TZID=America/Los_Angeles:20240208T090000
DTEND;TZID=America/Los_Angeles:20240208T153000
DTSTAMP:20260419T190758
CREATED:20240106T221850Z
LAST-MODIFIED:20240106T221904Z
UID:62098-1707382800-1707406200@www.sanandreasregional.org
SUMMARY:Independent Living Skills New Vendor Orientation (ILSNV)
DESCRIPTION:Title: Independent Living Skills New Vendor Orientation (ILSNV) \nDate: Thursday\, February 8\, 2024 from 9:00 AM to 3:30 PM \nLocation: SARC – Watsonville\, 6203 1110 Main Street\, Watsonville CA 95076 \nPlease visit this link for Registration Instruction
URL:https://www.sanandreasregional.org/zh/event/independent-living-skills-new-vendor-orientation-ilsnv/
LOCATION:San Andreas Regional Center Watsonville\, 1110 Main Street\, Watsonville\, CA\, 95076\, United States
CATEGORIES:Community Services Training,Resources Vendor Training
END:VEVENT
END:VCALENDAR