BEGIN:VCALENDAR
VERSION:2.0
PRODID:-//SARC - ECPv6.15.17//NONSGML v1.0//EN
CALSCALE:GREGORIAN
METHOD:PUBLISH
X-ORIGINAL-URL:https://www.sanandreasregional.org/zh
X-WR-CALDESC:Events for SARC
REFRESH-INTERVAL;VALUE=DURATION:PT1H
X-Robots-Tag:noindex
X-PUBLISHED-TTL:PT1H
BEGIN:VTIMEZONE
TZID:America/Los_Angeles
BEGIN:DAYLIGHT
TZOFFSETFROM:-0800
TZOFFSETTO:-0700
TZNAME:PDT
DTSTART:20230312T100000
END:DAYLIGHT
BEGIN:STANDARD
TZOFFSETFROM:-0700
TZOFFSETTO:-0800
TZNAME:PST
DTSTART:20231105T090000
END:STANDARD
BEGIN:DAYLIGHT
TZOFFSETFROM:-0800
TZOFFSETTO:-0700
TZNAME:PDT
DTSTART:20240310T100000
END:DAYLIGHT
BEGIN:STANDARD
TZOFFSETFROM:-0700
TZOFFSETTO:-0800
TZNAME:PST
DTSTART:20241103T090000
END:STANDARD
BEGIN:DAYLIGHT
TZOFFSETFROM:-0800
TZOFFSETTO:-0700
TZNAME:PDT
DTSTART:20250309T100000
END:DAYLIGHT
BEGIN:STANDARD
TZOFFSETFROM:-0700
TZOFFSETTO:-0800
TZNAME:PST
DTSTART:20251102T090000
END:STANDARD
END:VTIMEZONE
BEGIN:VEVENT
DTSTART;TZID=America/Los_Angeles:20241002T090000
DTEND;TZID=America/Los_Angeles:20241106T120000
DTSTAMP:20260424T041647
CREATED:20240926T235127Z
LAST-MODIFIED:20240926T235252Z
UID:63690-1727859600-1730894400@www.sanandreasregional.org
SUMMARY:Home & Community-Based Services - Planning for a Good Life
DESCRIPTION:October 2\, 2024 through November 6\, 2024 Wednesdays 9:00 to Noon \nHome & Community-Based Services (HCBS) \nPlanning for a Good Life \nVia Zoom \nBeing person-centered means that we are actively listening to others. This class offers practices that help to keep us focused on the interests\, strengths and dreams of each person we support. \nFor information in registration\, please contact Michelle Livoni mlivoni@sarc.org
URL:https://www.sanandreasregional.org/zh/event/home-community-based-services-planning-for-a-good-life/
LOCATION:Via Zoom
CATEGORIES:Community Services Training,Community Training,Resources Vendor Training
END:VEVENT
BEGIN:VEVENT
DTSTART;TZID=America/Los_Angeles:20241002T090000
DTEND;TZID=America/Los_Angeles:20241106T163000
DTSTAMP:20260424T041647
CREATED:20240507T050924Z
LAST-MODIFIED:20240507T050924Z
UID:62885-1727859600-1730910600@www.sanandreasregional.org
SUMMARY:Home & Community-Based Services (HCBS) - Centered Planning for a Good Life
DESCRIPTION:Centered Planning for a Good Life. \nSix weeks of 3-hour classes. This is an overview of person-centered planning that is helpful for direct support professionals and program administrators that may not be facilitating the planning process\, but will benefit from understanding how person-centered planning works and how different people who know and care about a person with a disability can contribute to the process. \n 
URL:https://www.sanandreasregional.org/zh/event/home-community-based-services-hcbs-centered-planning-for-a-good-life-3/
LOCATION:Via Zoom
CATEGORIES:Community Services Training,Community Training,Resources Vendor Training,SARC Events,Service Providers Events
END:VEVENT
BEGIN:VEVENT
DTSTART;TZID=America/Los_Angeles:20241107T090000
DTEND;TZID=America/Los_Angeles:20241107T150000
DTSTAMP:20260424T041647
CREATED:20240321T054852Z
LAST-MODIFIED:20240321T054858Z
UID:62548-1730970000-1730991600@www.sanandreasregional.org
SUMMARY:Supported Living Services New Vendor Orientation (SLSNV)
DESCRIPTION:Supported Living Services New Vendor Orientation (SLSNV) \nClass Date & Time: November 7\, 2024 from 9:00 a.m. to 3:00 p.m. \nClass Location: SARC San Jose – 6203 San Ignacio Ave\, Suite 200\, San Jose CA 95119 \nPlease click this link to apply for admission to the orientation: \nhttps://sanandreasregional.seamlessdocs.com/f/SLS_NVO_Registration_Form
URL:https://www.sanandreasregional.org/zh/event/supported-living-services-new-vendor-orientation-slsnv-4/
LOCATION:San Andreas Regional Center\, 6203 San Ignacio Ave\, Suite 200\, San Jose\, CA\, 95119\, United States
CATEGORIES:Community Services Training,Community Training
END:VEVENT
BEGIN:VEVENT
DTSTART;TZID=America/Los_Angeles:20241113T130000
DTEND;TZID=America/Los_Angeles:20241113T160000
DTSTAMP:20260424T041647
CREATED:20240530T004541Z
LAST-MODIFIED:20240530T004541Z
UID:63042-1731502800-1731513600@www.sanandreasregional.org
SUMMARY:Leading Person-Centered Change
DESCRIPTION:Leading Person-Centered Change \n  \n\n\nNovember 13\, 2024 – 1:00 to 4:00 Via Zoom \n\nDescription:  Leading Person-Centered Change 20 sessions of 3-hour classes.  The objective of the class is to embed a person-centered philosophy across your organization to align with HCBS requirements and sustain the person-centered work you have started.  Along the way\, you will learn how to enjoy your job more\, become an even better member of your team\, and enhance the experiences of both employees and people you support. You’ll elevate your teamwork and listening skills in a more person-centered way.\n\nStatus:  Class Full\nContact:  Michelle Livoni mlivoni@gmail.com
URL:https://www.sanandreasregional.org/zh/event/leading-person-centered-change-10/
LOCATION:Via Zoom
CATEGORIES:Community Services Training,Community Training,Resources Vendor Training
END:VEVENT
BEGIN:VEVENT
DTSTART;TZID=America/Los_Angeles:20241114T090000
DTEND;TZID=America/Los_Angeles:20241114T150000
DTSTAMP:20260424T041647
CREATED:20240318T235432Z
LAST-MODIFIED:20240318T235432Z
UID:62492-1731574800-1731596400@www.sanandreasregional.org
SUMMARY:Independent Living Skills New Vendor Orientation (ILSNV)
DESCRIPTION:Independent Living Skills New Vendor Orientation (ILSNV) \nClass Date & Time: November 14\, 2024 from 9:00 a.m. to 3:00 p.m. \nClass Location: SARC San Jose – 6203 San Ignacio Ave\, Suite 200\, San Jose CA 95119 \nPlease click this link to apply for admission to the orientation: \nhttps://sanandreasregional.seamlessdocs.com/f/ILS_NVO_Registration_Form
URL:https://www.sanandreasregional.org/zh/event/independent-living-skills-new-vendor-orientation-ilsnv-3/
LOCATION:San Andreas Regional Center\, 6203 San Ignacio Ave\, Suite 200\, San Jose\, CA\, 95119\, United States
CATEGORIES:Community Services Training,Community Training
END:VEVENT
END:VCALENDAR