BEGIN:VCALENDAR
VERSION:2.0
PRODID:-//SARC - ECPv6.15.17//NONSGML v1.0//EN
CALSCALE:GREGORIAN
METHOD:PUBLISH
X-ORIGINAL-URL:https://www.sanandreasregional.org/zh
X-WR-CALDESC:Events for SARC
REFRESH-INTERVAL;VALUE=DURATION:PT1H
X-Robots-Tag:noindex
X-PUBLISHED-TTL:PT1H
BEGIN:VTIMEZONE
TZID:America/Los_Angeles
BEGIN:DAYLIGHT
TZOFFSETFROM:-0800
TZOFFSETTO:-0700
TZNAME:PDT
DTSTART:20230312T100000
END:DAYLIGHT
BEGIN:STANDARD
TZOFFSETFROM:-0700
TZOFFSETTO:-0800
TZNAME:PST
DTSTART:20231105T090000
END:STANDARD
BEGIN:DAYLIGHT
TZOFFSETFROM:-0800
TZOFFSETTO:-0700
TZNAME:PDT
DTSTART:20240310T100000
END:DAYLIGHT
BEGIN:STANDARD
TZOFFSETFROM:-0700
TZOFFSETTO:-0800
TZNAME:PST
DTSTART:20241103T090000
END:STANDARD
BEGIN:DAYLIGHT
TZOFFSETFROM:-0800
TZOFFSETTO:-0700
TZNAME:PDT
DTSTART:20250309T100000
END:DAYLIGHT
BEGIN:STANDARD
TZOFFSETFROM:-0700
TZOFFSETTO:-0800
TZNAME:PST
DTSTART:20251102T090000
END:STANDARD
END:VTIMEZONE
BEGIN:VEVENT
DTSTART;TZID=America/Los_Angeles:20241021T170000
DTEND;TZID=America/Los_Angeles:20241021T173000
DTSTAMP:20260419T111657
CREATED:20240613T050112Z
LAST-MODIFIED:20241014T230030Z
UID:63144-1729530000-1729531800@www.sanandreasregional.org
SUMMARY:Fiscal Committee Meeting
DESCRIPTION:Fiscal Committee  Meeting \nMonday 5:00 PM \nAll Committee meetings are open to the public \nClick here for the current board agenda and zoom link: Board Agenda and Link 
URL:https://www.sanandreasregional.org/zh/event/fiscal-committee-meeting-13/
LOCATION:Via Zoom
CATEGORIES:Committee Meetings
END:VEVENT
BEGIN:VEVENT
DTSTART;TZID=America/Los_Angeles:20241021T180000
DTEND;TZID=America/Los_Angeles:20241021T200000
DTSTAMP:20260419T111657
CREATED:20231019T000445Z
LAST-MODIFIED:20231019T000445Z
UID:61008-1729533600-1729540800@www.sanandreasregional.org
SUMMARY:Board of Directors Meeting
DESCRIPTION:San Andreas Regional Center\nBoard of Directors\nAnnual Meeting\nOctober 21\, 2024 Meeting \nPlease contact the Board’s Executive Administrative Assistant at (408) 341-3826 to conform the zoom link and date.
URL:https://www.sanandreasregional.org/zh/event/board-of-directors-meeting-37/
LOCATION:San Andreas Regional Center\, 6203 San Ignacio Ave\, Suite 200\, San Jose\, CA\, 95119\, United States
CATEGORIES:Board of Directors
END:VEVENT
BEGIN:VEVENT
DTSTART;TZID=America/Los_Angeles:20241023T100000
DTEND;TZID=America/Los_Angeles:20241023T120000
DTSTAMP:20260419T111657
CREATED:20241015T153212Z
LAST-MODIFIED:20241015T153212Z
UID:63808-1729677600-1729684800@www.sanandreasregional.org
SUMMARY:Service Provider Advisory Committee (SPAC) Meeting
DESCRIPTION:Service Provider Advisory Committee (SPAC) Meeting \nWednesday 4:00 PM \nAll Committee meetings are open to the public \nPlease contact the Board’s Executive Administrative Assistant at (408) 341-3826 to confirm the meeting date\, location\, or Zoom invite.
URL:https://www.sanandreasregional.org/zh/event/service-provider-advisory-committee-spac-meeting-15/
LOCATION:Via Zoom
CATEGORIES:Committee Meetings
END:VEVENT
END:VCALENDAR