BEGIN:VCALENDAR
VERSION:2.0
PRODID:-//SARC - ECPv6.15.17//NONSGML v1.0//EN
CALSCALE:GREGORIAN
METHOD:PUBLISH
X-ORIGINAL-URL:https://www.sanandreasregional.org
X-WR-CALDESC:Events for SARC
REFRESH-INTERVAL;VALUE=DURATION:PT1H
X-Robots-Tag:noindex
X-PUBLISHED-TTL:PT1H
BEGIN:VTIMEZONE
TZID:America/Los_Angeles
BEGIN:DAYLIGHT
TZOFFSETFROM:-0800
TZOFFSETTO:-0700
TZNAME:PDT
DTSTART:20190310T100000
END:DAYLIGHT
BEGIN:STANDARD
TZOFFSETFROM:-0700
TZOFFSETTO:-0800
TZNAME:PST
DTSTART:20191103T090000
END:STANDARD
BEGIN:DAYLIGHT
TZOFFSETFROM:-0800
TZOFFSETTO:-0700
TZNAME:PDT
DTSTART:20200308T100000
END:DAYLIGHT
BEGIN:STANDARD
TZOFFSETFROM:-0700
TZOFFSETTO:-0800
TZNAME:PST
DTSTART:20201101T090000
END:STANDARD
BEGIN:DAYLIGHT
TZOFFSETFROM:-0800
TZOFFSETTO:-0700
TZNAME:PDT
DTSTART:20210314T100000
END:DAYLIGHT
BEGIN:STANDARD
TZOFFSETFROM:-0700
TZOFFSETTO:-0800
TZNAME:PST
DTSTART:20211107T090000
END:STANDARD
BEGIN:DAYLIGHT
TZOFFSETFROM:-0800
TZOFFSETTO:-0700
TZNAME:PDT
DTSTART:20220313T100000
END:DAYLIGHT
BEGIN:STANDARD
TZOFFSETFROM:-0700
TZOFFSETTO:-0800
TZNAME:PST
DTSTART:20221106T090000
END:STANDARD
BEGIN:DAYLIGHT
TZOFFSETFROM:-0800
TZOFFSETTO:-0700
TZNAME:PDT
DTSTART:20230312T100000
END:DAYLIGHT
BEGIN:STANDARD
TZOFFSETFROM:-0700
TZOFFSETTO:-0800
TZNAME:PST
DTSTART:20231105T090000
END:STANDARD
BEGIN:DAYLIGHT
TZOFFSETFROM:-0800
TZOFFSETTO:-0700
TZNAME:PDT
DTSTART:20240310T100000
END:DAYLIGHT
BEGIN:STANDARD
TZOFFSETFROM:-0700
TZOFFSETTO:-0800
TZNAME:PST
DTSTART:20241103T090000
END:STANDARD
BEGIN:DAYLIGHT
TZOFFSETFROM:-0800
TZOFFSETTO:-0700
TZNAME:PDT
DTSTART:20250309T100000
END:DAYLIGHT
BEGIN:STANDARD
TZOFFSETFROM:-0700
TZOFFSETTO:-0800
TZNAME:PST
DTSTART:20251102T090000
END:STANDARD
END:VTIMEZONE
BEGIN:VEVENT
DTSTART;TZID=America/Los_Angeles:20241104T090000
DTEND;TZID=America/Los_Angeles:20241106T160000
DTSTAMP:20260419T132016
CREATED:20240106T213830Z
LAST-MODIFIED:20240106T214422Z
UID:62077-1730710800-1730908800@www.sanandreasregional.org
SUMMARY:Resource Vendor Training: Residential Services Orientation (RSO)
DESCRIPTION:*PLEASE CAREFULLY READ THE ENTIRETY OF THIS POST. IF ANY INSTRUCTION ON THIS POST IS NOT FOLLOWED\, IT WILL RESULT IN AN AUTOMATIC DENIAL TO THE RSO* \n\n\nThe Residential Services Orientation class is now open for registration. The dates for the class are November 4th to 6th\, 2024. You must attend all three classes. \nThe Residential Services Orientation will take place in person at the San Andreas Regional Center San Jose office. \n\n\n\n*DO NOT ATTEND IF YOU ARE EXPERIENCING COVID SYMPTOMS \nPlease click here to register\, space is limited
URL:https://www.sanandreasregional.org/event/resource-vendor-training-residential-services-orientation-rso-5/
LOCATION:San Andreas Regional Center\, 6203 San Ignacio Ave\, Suite 200\, San Jose\, CA\, 95119\, United States
CATEGORIES:Community Services Training,Resources Vendor Training
END:VEVENT
BEGIN:VEVENT
DTSTART;TZID=America/Los_Angeles:20240805T090000
DTEND;TZID=America/Los_Angeles:20240807T160000
DTSTAMP:20260419T132016
CREATED:20240106T213705Z
LAST-MODIFIED:20240106T213705Z
UID:62075-1722848400-1723046400@www.sanandreasregional.org
SUMMARY:Resource Vendor Training: Residential Services Orientation (RSO)
DESCRIPTION:*PLEASE CAREFULLY READ THE ENTIRETY OF THIS POST. IF ANY INSTRUCTION ON THIS POST IS NOT FOLLOWED\, IT WILL RESULT IN AN AUTOMATIC DENIAL TO THE RSO* \n\n\nThe Residential Services Orientation class is now open for registration. The dates for the class are August 5th to 7th\, 2024. You must attend all three classes. \nThe Residential Services Orientation will take place in person at the San Andreas Regional Center Watsonville office. \n\n\n\n*DO NOT ATTEND IF YOU ARE EXPERIENCING COVID SYMPTOMS \nPlease click here to register\, space is limited
URL:https://www.sanandreasregional.org/event/resource-vendor-training-residential-services-orientation-rso-4/
LOCATION:San Andreas Regional Center Watsonville\, 1110 Main Street\, Watsonville\, CA\, 95076\, United States
CATEGORIES:Community Services Training,Resources Vendor Training
END:VEVENT
BEGIN:VEVENT
DTSTART;TZID=America/Los_Angeles:20240506T090000
DTEND;TZID=America/Los_Angeles:20240508T160000
DTSTAMP:20260419T132016
CREATED:20240106T213517Z
LAST-MODIFIED:20240106T213517Z
UID:62073-1714986000-1715184000@www.sanandreasregional.org
SUMMARY:Resource Vendor Training: Residential Services Orientation (RSO)
DESCRIPTION:*PLEASE CAREFULLY READ THE ENTIRETY OF THIS POST. IF ANY INSTRUCTION ON THIS POST IS NOT FOLLOWED\, IT WILL RESULT IN AN AUTOMATIC DENIAL TO THE RSO* \n\n\nThe Residential Services Orientation class is now open for registration. The dates for the class are May 6th to 8th\, 2024. You must attend all three classes. \nThe Residential Services Orientation will take place in person at the San Andreas Regional Center San Jose office. \n\n\n\n*DO NOT ATTEND IF YOU ARE EXPERIENCING COVID SYMPTOMS \nPlease click here to register\, space is limited
URL:https://www.sanandreasregional.org/event/resource-vendor-training-residential-services-orientation-rso-3/
LOCATION:San Andreas Regional Center\, 6203 San Ignacio Ave\, Suite 200\, San Jose\, CA\, 95119\, United States
CATEGORIES:Community Services Training,Resources Vendor Training
END:VEVENT
BEGIN:VEVENT
DTSTART;TZID=America/Los_Angeles:20240205T090000
DTEND;TZID=America/Los_Angeles:20240207T160000
DTSTAMP:20260419T132016
CREATED:20231231T225450Z
LAST-MODIFIED:20231231T225450Z
UID:61819-1707123600-1707321600@www.sanandreasregional.org
SUMMARY:Resource Vendor Training: Residential Services Orientation (RSO)
DESCRIPTION:*PLEASE CAREFULLY READ THE ENTIRETY OF THIS POST. IF ANY INSTRUCTION ON THIS POST IS NOT FOLLOWED\, IT WILL RESULT IN AN AUTOMATIC DENIAL TO THE RSO* \n\n\nThe Residential Services Orientation class is now open for registration. The dates for the class are February 5th to 7th\, 2024. You must attend all three classes. \nThe Residential Services Orientation will take place in person at the San Andreas Regional Center San Jose office. \n\n\n\n*DO NOT ATTEND IF YOU ARE EXPERIENCING COVID SYMPTOMS \nPlease click here to register\, space is limited
URL:https://www.sanandreasregional.org/event/resource-vendor-training-residential-services-orientation-rso-2/
LOCATION:San Andreas Regional Center\, 6203 San Ignacio Ave\, Suite 200\, San Jose\, CA\, 95119\, United States
CATEGORIES:Community Services Training,Resources Vendor Training
END:VEVENT
BEGIN:VEVENT
DTSTART;TZID=America/Los_Angeles:20230501T090000
DTEND;TZID=America/Los_Angeles:20230503T160000
DTSTAMP:20260419T132016
CREATED:20230317T222525Z
LAST-MODIFIED:20230317T223124Z
UID:59924-1682931600-1683129600@www.sanandreasregional.org
SUMMARY:Resource Vendor Training: Residential Services Orientation (RSO)
DESCRIPTION:*PLEASE CAREFULLY READ THE ENTIRETY OF THIS POST. IF ANY INSTRUCTION ON THIS POST IS NOT FOLLOWED\, IT WILL RESULT IN AN AUTOMATIC DENIAL TO THE RSO* \n\n\nIf you need further clarification on any of these instructions\, please reach out. \n\n\nThe Residential Services Orientation class is now open for registration. The dates for the class are May 1st\, 2nd\, and 3rd\, 2023. You must attend all three classes. \nThe Residential Services Orientation will take place in person at the San Andreas Regional Center San Jose office. \nTo be registered you must complete the following items: \n\n\n\nRegister (registration link can be found at the bottom of the post)\nSend a letter of intent to Ruby Hernandez at rhernandez@sarc.org and Gabriela Alvarez at galvarez@sarc.org in a separate word document (letters of intent sent as emails will not be accepted).\nSend a resume to Ruby Hernandez at rhernandez@sarc.org and Gabriela Alvarez at galvarez@sarc.org in a separate word document (resumes sent as emails will not be accepted).\nSend a copy of your Community Care Licensing (CCL) administrator certificate to Ruby Hernandez at rhernandez@sarc.org and Gabriela Alvarez at galvarez@sarc.org\nSend a copy of your Direct Support Professional (DSP) training year 1 and 2 certificates to Ruby Hernandez at rhernandez@sarc.org and Gabriela Alvarez at galvarez@sarc.org\n\nThe letter of intent must include: (if any question is not answered\, it will result in automatic denial)\n\n\n\nWhy do you want to become a residential provider?\nWhat is your background and experience that prepared you for this position?\nWhat steps have you taken with CCL (Community Care Licensing)?\nPlease describe the level of service you wish to provide.\nHow will HCBS Final Rule impact the way you are going to provide services?\n\n\n\n\nPlease conduct a grammar and spell check to your letter of intent. We will not accept any letters of intent or registrations after 11:59pm\, Friday\, April 14\, 2023. \nThere are no waitlists. The next Residential Services Orientation will be on August 7th\, 8th\, and 9th\, 2023. Registration will be open in mid-June\, and you will find the registration post in the month of August on SARC’s events calendar. \n\n\nOnly two individuals per agency unless previously approved by the Community Services Unit Manager\, Ann Sieber. \n\n\nBy the end of day Friday\, April 21\, 2023\, you will be receiving a confirmation letter or denial letter via email confirming whether or not you are in the class. Along with the confirmation letters will be instructions on getting into the building/signing in\, and schedule of the presenters. \n*NOTE: If we have less than 5 registrants\, the May RSO will be canceled. Any registrants who were approved to attend will be automatically added to the list for the August RSO. You will not need to sign up again or resubmit any documents. \n*DO NOT ATTEND IF YOU ARE EXPERIENCING COVID SYMPTOMS
URL:https://www.sanandreasregional.org/event/resource-vendor-training-residential-services-orientation-rso/
LOCATION:San Andreas Regional Center\, 6203 San Ignacio Ave\, Suite 200\, San Jose\, CA\, 95119\, United States
CATEGORIES:Community Services Training,Resources Vendor Training
END:VEVENT
BEGIN:VEVENT
DTSTART;TZID=America/Los_Angeles:20221107T090000
DTEND;TZID=America/Los_Angeles:20221109T170000
DTSTAMP:20260419T132016
CREATED:20220919T151950Z
LAST-MODIFIED:20220919T153122Z
UID:58581-1667811600-1668013200@www.sanandreasregional.org
SUMMARY:Residential Services Orientation (RSO) Class
DESCRIPTION:*PLEASE CAREFULLY READ THE ENTIRETY OF THIS POST. IF ANY INSTRUCTION ON THIS POST IS NOT FOLLOWED\, IT WILL RESULT IN AN AUTOMATIC DENIAL TO THE RSO*   \nThe Residential Services Orientation class is now open for registration.  The dates for the class are November 7th\, 8th\, and 9th\, 2022. You must attend all three classes. \nTo be registered you must complete the following items: \n\nRegister (registration link can be found at the bottom of the post)\nSend a letter of intent to Ruby Hernandez at rhernandez@sarc.org and Gabriela Alvarez at galvarez@sarc.org in a separate word document (letters of intent sent as emails will not be accepted).\nSend a resume to Ruby Hernandez at rhernandez@sarc.org and Gabriela Alvarez at galvarez@sarc.org in a separate word document (resumes sent as emails will not be accepted).\nSend a copy of your Community Care Licensing (CCL) administrator certificate to Ruby Hernandez at rhernandez@sarc.org and Gabriela Alvarez at galvarez@sarc.org\nSend a copy of your Direct Support Professional (DSP) training year 1 and 2 certificates to Ruby Hernandez at rhernandez@sarc.org and Gabriela Alvarez at galvarez@sarc.org\n\nThe letter must include: \n\nWhy do you want to become a residential provider?\nWhat is your background and experience that prepared you for this position?\nWhat steps have you taken with CCL (Community Care Licensing)?\nPlease describe the level of service you wish to provide.\nHow will HCBS Final Rule impact the way you are going to provide services?\n\nPlease conduct a grammar and spell check to your letter of intent. We will not accept any letters of intent or registrations after 11:59pm\, Thursday\, October 13\, 2022.\n \nThere are no waitlists. The next Residential Services Orientation will be on February 6th\, 7th\, and 8th\, 2023.  Registration will be open in September and you will find the registration post in the month of November on SARC’s events calendar. \nOnly two individuals per agency unless previously approved by the Community Services Unit Manager Ann Sieber. \nBy the end of day Friday\, October 21\, 2022\, you will be receiving a confirmation letter or denial letter via email confirming whether or not you are in the class. Along with the confirmation letters will be instructions on getting into the building/signing in\, our COVID protocol\, and schedule of the presenters. \n  \n*DO NOT ATTEND IF YOU ARE EXPERIENCING COVID SYMPTOMS 
URL:https://www.sanandreasregional.org/event/residential-services-orientation-rso-class-8/
LOCATION:San Andreas Regional Center\, 6203 San Ignacio Ave\, Suite 200\, San Jose\, CA\, 95119\, United States
CATEGORIES:Community Services Training,Resources Vendor Training
END:VEVENT
BEGIN:VEVENT
DTSTART;TZID=America/Los_Angeles:20220801T090000
DTEND;TZID=America/Los_Angeles:20220803T170000
DTSTAMP:20260419T132016
CREATED:20220613T162118Z
LAST-MODIFIED:20220613T162347Z
UID:57841-1659344400-1659546000@www.sanandreasregional.org
SUMMARY:Residential Services Orientation (RSO) Class
DESCRIPTION:*PLEASE CAREFULLY READ THE ENTIRETY OF THIS POST. IF ANY INSTRUCTION ON THIS POST IS NOT FOLLOWED\, IT WILL RESULT IN AN AUTOMATIC DENIAL TO THE RSO*   \nThe Residential Services Orientation class is now open for registration.  The dates for the class are August 1st\, 2nd\, and 3rd\, 2022. You must attend all three classes. \nTo be registered you must complete the following items: \n\nRegister (registration link can be found at the bottom of the post)\nSend a letter of intent to Ruby Hernandez at rhernandez@sarc.org and Gabriela Alvarez at galvarez@sarc.org in a separate word document (letters of intent sent as emails will not be accepted).\nSend a resume to Ruby Hernandez at rhernandez@sarc.org and Gabriela Alvarez at galvarez@sarc.org in a separate word document (resumes sent as emails will not be accepted).\nSend a copy of your Community Care Licensing (CCL) administrator certificate to Ruby Hernandez at rhernandez@sarc.org and Gabriela Alvarez at galvarez@sarc.org\nSend a copy of your Direct Support Professional (DSP) training year 1 and 2 certificates to Ruby Hernandez at rhernandez@sarc.org and Gabriela Alvarez at galvarez@sarc.org\n\nThe letter must include: \n\nWhy do you want to become a residential provider?\nWhat is your background and experience that prepared you for this position?\nWhat steps have you taken with CCL (Community Care Licensing)?\nPlease describe the level of service you wish to provide.\nHow will HCBS Final Rule impact the way you are going to provide services?\n\nPlease conduct a grammar and spell check to your letter of intent. We will not accept any letters of intent or registrations after 11:59pm\, Wednesday\, July 13\, 2022.  \nThere are no waitlists. The next Residential Services Orientation will be on November 7th\, 8th\, and 9th\, 2022. Registration will be open in September and you will find the registration post in the month of November on SARC’s events calendar. \nOnly two individuals per agency unless previously approved by the Community Services Unit Manager Ann Sieber. \nBy the end of day Friday\, July 22\, 2022\, you will be receiving a confirmation letter or denial letter via email confirming whether or not you are in the class. Along with the confirmation letters will be instructions on getting into the building/signing in\, our COVID protocol\, and schedule of the presenters. \n  \n*DO NOT ATTEND IF YOU ARE EXPERIENCING COVID SYMPTOMS 
URL:https://www.sanandreasregional.org/event/residential-services-orientation-rso-class-7/
LOCATION:San Andreas Regional Center\, 6203 San Ignacio Ave\, Suite 200\, San Jose\, CA\, 95119\, United States
CATEGORIES:Community Services Training,Resources Vendor Training
END:VEVENT
BEGIN:VEVENT
DTSTART;TZID=America/Los_Angeles:20220502T090000
DTEND;TZID=America/Los_Angeles:20220504T170000
DTSTAMP:20260419T132016
CREATED:20211210T162558Z
LAST-MODIFIED:20220309T211124Z
UID:56672-1651482000-1651683600@www.sanandreasregional.org
SUMMARY:Residential Services Orientation (RSO) Class
DESCRIPTION:*PLEASE CAREFULLY READ THE ENTIRETY OF THIS POST. IF ANY INSTRUCTION ON THIS POST IS NOT FOLLOWED\, IT WILL RESULT IN AN AUTOMATIC DENIAL TO THE RSO*   \nThe Residential Services Orientation class is now open for registration.  The dates for the class are May 2nd\, 3rd\, and 4th 2022. You must attend all three classes. \nTo be registered you must complete the following items: \n\nRegister (registration link can be found at the bottom of the post)\nSend a letter of intent to Ruby Hernandez at rhernandez@sarc.org in a separate word document (letters of intent sent as emails will not be accepted).\nSend a resume to Ruby Hernandez at rhernandez@sarc.org in a separate word document (resumes sent as emails will not be accepted).\nSend a copy of the Community Care Licensing (CCL) administrator certificate and Direct Support Professional (DSP) part 1 and part 2 certificates to Ruby Hernandez at rhernandez@sarc.org.\n\nThe letter must include: \n\nWhy do you want to become a residential provider?\nWhat is your background and experience that prepared for this position?\nWhat steps have you taken with CCL (Community Care Licensing)?\nPlease describe the level of service you wish to provide.\nHow will HCBS Final Rule impact the way you are going to provide services?\n\nPlease conduct a grammar and spell check to your letter of intent. We will not accept any letters of intent or registrations after 11:59pm\, Wednesday\, April 13\, 2022.  \nThere are no waitlists. The next Residential Services Orientation will be on August 1st\, 2nd\, and 3rd\, 2022. Registration will be open in July and you will find the registration post in the month of August on SARC’s events calendar. \nOnly two individuals per agency unless previously approved by the Community Services Unit Manager\, Ann Sieber.  \nBy the end of day Friday\, April 22\, 2022\, you will be receiving a confirmation letter or denial letter via email confirming whether or not you are in the class. Along with the confirmation letters will be a virtual link to the class and schedule of the presenters. 
URL:https://www.sanandreasregional.org/event/residential-services-orientation-rso-class-5/
LOCATION:Via Zoom
CATEGORIES:Community Services Training,Resources Vendor Training
END:VEVENT
BEGIN:VEVENT
DTSTART;TZID=America/Los_Angeles:20220207T090000
DTEND;TZID=America/Los_Angeles:20220209T170000
DTSTAMP:20260419T132016
CREATED:20220309T210833Z
LAST-MODIFIED:20220309T210833Z
UID:57014-1644224400-1644426000@www.sanandreasregional.org
SUMMARY:Residential Services Orientation (RSO) Class
DESCRIPTION:The Residential Services Orientation class is now open for registration.  The dates for the class are February\, 7th\, 8th and 9th 2021. You must attend all three classes. \nTo be registered you must complete the following items: \n\nRegister\nEmail a letter of intent to Rupinder Kaur at rkaur@sarc.org and Ruby Hernandez at rhernandez@sarc.org.\nEmail a resume to Rupinder Kaur at rkaur@sarc.org and Ruby Hernandez at rhernandez@sarc.org.\n\nThe letter must include: \n\nWhy do you want to become a residential provider?\nWhat is your background and experience that prepared for this position?\nWhat steps have you taken with CCL (Community Care Licensing)?\nPlease describe the level of service you wish to provide.\nHow will HCBS Final Rule impact the way you are going to provide services?\n\nWe will not accept any letters of intent or registrations after 11:59pm on\, Wednesday\, January 19th\, 202. There are no waitlists. The next Residential Services Orientation will be on May 2\, 3\, and 4\, 2022. \nOnly two individuals per agency unless previously approved by the Community Services Unit Manager Ann Sieber. \nBy the end of Friday\, January 28th\, 2022 6PM you will be receiving a confirmation letter or denial letter confirming whether or not you are in the class. Along with the confirmation letters will be a video link to the class and schedule of the presenters.
URL:https://www.sanandreasregional.org/event/residential-services-orientation-rso-class-6/
LOCATION:Via Zoom
CATEGORIES:Community Services Training,Resources Vendor Training
END:VEVENT
BEGIN:VEVENT
DTSTART;TZID=America/Los_Angeles:20211103T090000
DTEND;TZID=America/Los_Angeles:20211105T170000
DTSTAMP:20260419T132016
CREATED:20211011T172654Z
LAST-MODIFIED:20211011T174625Z
UID:56507-1635930000-1636131600@www.sanandreasregional.org
SUMMARY:Residential Services Orientation (RSO) Class
DESCRIPTION:The Residential Services Orientation class is now open for registration.  The dates for the class are November\, 3rd\, 4th and 5th 2021. You must attend all three classes. \nTo be registered you must complete the following items: \n\nRegister\nEmail a letter of intent to Rupinder Kaur at rkaur@sarc.org and Ruby Hernandez at rherhandez@sarc.org.\nEmail a resume to Rupinder Kaur at rkaur@sarc.org and Ruby Hernandez at rherhandez@sarc.org.\n\nThe letter must include: \n\nWhy do you want to become a residential provider?\nWhat is your background and experience that prepared for this position?\nWhat steps have you taken with CCL (Community Care Licensing)?\nPlease describe the level of service you wish to provide.\n\nHow will HCBS Final Rule impact the way you are going to provide services? \nWe will not accept any letters of intent or registrations after 11:59pm on October 18th\, 2021. There are no waitlists. The next Residential Services Orientation will be in February 2022 \nOnly two individuals per agency unless previously approved by the Community Services Unit Manager Ann Sieber. \nAfter the October 18th\, 2021 deadline you will be receiving a confirmation letter or denial letter confirming whether or not you are in the class. Along with the confirmation letters will be a video link to the class and schedule of the presenters.
URL:https://www.sanandreasregional.org/event/residential-services-orientation-rso-class-4/
LOCATION:Via Zoom
CATEGORIES:Community Services Training,Resources Vendor Training
END:VEVENT
BEGIN:VEVENT
DTSTART;TZID=America/Los_Angeles:20210830T090000
DTEND;TZID=America/Los_Angeles:20210901T170000
DTSTAMP:20260419T132016
CREATED:20210812T010722Z
LAST-MODIFIED:20210812T010756Z
UID:56354-1630314000-1630515600@www.sanandreasregional.org
SUMMARY:Residential Services Orientation (RSO) Class
DESCRIPTION:The Residential Services Orientation class is now open for registration.  The dates for the class are August 30\, 31\, and September 1 . You must attend all three classes. \n  \nTo be registered you must complete the following items: \n  \n1) Register \n  \n2) Send a letter of intent to Rupinder Kaur at rkaur@sarc.org. \n  \nWe will not accept any letters of intent or registrations after 11:59pm on Tuesday August 24th. There are no waitlists. The next Residential Services Orientation will be in November 2021 \nOnly two individuals per agency unless previously approved by the Community Services Unit Manager Ann Sieber. \nAfter the August 24th deadline you will be receiving a confirmation letter or denial letter confirming whether or not you are in the class. Along with the confirmation letters will be a video link to the class and schedule of the presenters.
URL:https://www.sanandreasregional.org/event/residential-services-orientation-rso-class-3/
LOCATION:Via Zoom
CATEGORIES:Community Services Training,Resources Vendor Training
END:VEVENT
BEGIN:VEVENT
DTSTART;TZID=America/Los_Angeles:20210719T090000
DTEND;TZID=America/Los_Angeles:20210721T163000
DTSTAMP:20260419T132016
CREATED:20210617T153018Z
LAST-MODIFIED:20210617T153018Z
UID:56246-1626685200-1626885000@www.sanandreasregional.org
SUMMARY:Residential Services Orientation (RSO) Class
DESCRIPTION:The Residential Services Orientation class is now open for registration.  The dates for the class are July 19\, 20 and 21. You must attend all three classes. \n  \nTo be registered you must complete the following items: \n  \n1) Register \n  \n2) Send a letter of intent to Rupinder Kaur at rkaur@sarc.org. \n  \nWe will not accept any letters of intent or registrations after 11:59pm on Wednesday July 7th. There are no waitlists. The next Residential Services Orientation will be in October 2021 \nOnly two individuals per agency unless previously approved by the Community Services Unit Manager Ann Sieber. \nAfter the July 7th deadline you will be receiving a confirmation letter or denial letter confirming whether or not you are in the class. Along with the confirmation letters will be a video link to the class and schedule of the presenters.
URL:https://www.sanandreasregional.org/event/residential-services-orientation-rso-class-2/
LOCATION:Via Zoom
CATEGORIES:Community Services Training,Resources Vendor Training
END:VEVENT
BEGIN:VEVENT
DTSTART;VALUE=DATE:20201027
DTEND;VALUE=DATE:20201030
DTSTAMP:20260419T132016
CREATED:20201002T230510Z
LAST-MODIFIED:20201005T171706Z
UID:55441-1603756800-1604015999@www.sanandreasregional.org
SUMMARY:Residential Services Orientation class (RSO)
DESCRIPTION:The Residential Services Orientation class is now open for registration.  The dates for the class are October 27\, 28 and 29. You must attend all three classes. \nTo be registered you must complete the following items: \n\nRegister\nSend a letter of intent to Steve Osterling at sosterling@sarc.org.\n\nWe will not accept  any letters of intent or registrations after 11:59pm on Tuesday October 20th. \nThere are no waitlists\, please register to ensure your seat is secured. The next Residential Services Orientation will be in April 2021. \nOnly two individuals per agency unless previously approved by the Community Services Unit Manager Ann Sieber. \nAfter the October 20th registration deadline you will be receiving a confirmation letter or denial letter confirming whether or not you are in the class. \nIf you are confirm\, you will also receive a video link to the class and schedule of the presenters. \n 
URL:https://www.sanandreasregional.org/event/residential-services-orientation-class-rso/
LOCATION:San Andreas Regional Center\, 6203 San Ignacio Ave\, Suite 200\, San Jose\, CA\, 95119\, United States
CATEGORIES:Community Services Training,Resources Vendor Training
END:VEVENT
END:VCALENDAR