BEGIN:VCALENDAR
VERSION:2.0
PRODID:-//SARC - ECPv6.15.17//NONSGML v1.0//EN
CALSCALE:GREGORIAN
METHOD:PUBLISH
X-ORIGINAL-URL:https://www.sanandreasregional.org
X-WR-CALDESC:Events for SARC
REFRESH-INTERVAL;VALUE=DURATION:PT1H
X-Robots-Tag:noindex
X-PUBLISHED-TTL:PT1H
BEGIN:VTIMEZONE
TZID:America/Los_Angeles
BEGIN:DAYLIGHT
TZOFFSETFROM:-0800
TZOFFSETTO:-0700
TZNAME:PDT
DTSTART:20230312T100000
END:DAYLIGHT
BEGIN:STANDARD
TZOFFSETFROM:-0700
TZOFFSETTO:-0800
TZNAME:PST
DTSTART:20231105T090000
END:STANDARD
BEGIN:DAYLIGHT
TZOFFSETFROM:-0800
TZOFFSETTO:-0700
TZNAME:PDT
DTSTART:20240310T100000
END:DAYLIGHT
BEGIN:STANDARD
TZOFFSETFROM:-0700
TZOFFSETTO:-0800
TZNAME:PST
DTSTART:20241103T090000
END:STANDARD
BEGIN:DAYLIGHT
TZOFFSETFROM:-0800
TZOFFSETTO:-0700
TZNAME:PDT
DTSTART:20250309T100000
END:DAYLIGHT
BEGIN:STANDARD
TZOFFSETFROM:-0700
TZOFFSETTO:-0800
TZNAME:PST
DTSTART:20251102T090000
END:STANDARD
END:VTIMEZONE
BEGIN:VEVENT
DTSTART;TZID=America/Los_Angeles:20240610T090000
DTEND;TZID=America/Los_Angeles:20240826T163000
DTSTAMP:20260420T061143
CREATED:20240507T050745Z
LAST-MODIFIED:20240507T050745Z
UID:62883-1718010000-1724689800@www.sanandreasregional.org
SUMMARY:Home & Community-Based Services (HCBS) - Centered Planning for a Good Life
DESCRIPTION: Community Connecting. \nSix weeks of 3-hour classes. The first requirement of the HCBS rule is supporting people to be part of the community. This course introduces four tools to help people facilitate community connections. The training is interactive and provides opportunities to practice using the different tools and approaches. \n  \n 
URL:https://www.sanandreasregional.org/event/home-community-based-services-hcbs-centered-planning-for-a-good-life-2/
LOCATION:Via Zoom
CATEGORIES:Community Services Training,Community Training,Resources Vendor Training,SARC Events,Service Providers Events
END:VEVENT
BEGIN:VEVENT
DTSTART;TZID=America/Los_Angeles:20240819T160000
DTEND;TZID=America/Los_Angeles:20240819T180000
DTSTAMP:20260420T061143
CREATED:20240613T050037Z
LAST-MODIFIED:20240613T050449Z
UID:63142-1724083200-1724090400@www.sanandreasregional.org
SUMMARY:Fiscal Committee Meeting
DESCRIPTION:Fiscal Committee  Meeting \nMonday 4:00 PM \nAll Committee meetings are open to the public \nPlease contact the Board’s Executive Administrative Assistant at (408) 341-3826 to confirm the meeting date\, location\, or Zoom invite.
URL:https://www.sanandreasregional.org/event/fiscal-committee-meeting-10/
LOCATION:Via Zoom
CATEGORIES:Committee Meetings
END:VEVENT
BEGIN:VEVENT
DTSTART;TZID=America/Los_Angeles:20240819T170000
DTEND;TZID=America/Los_Angeles:20240819T190000
DTSTAMP:20260420T061143
CREATED:20231019T001201Z
LAST-MODIFIED:20240613T043243Z
UID:61023-1724086800-1724094000@www.sanandreasregional.org
SUMMARY:Board of Directors Meeting
DESCRIPTION:San Andreas Regional Center\nBoard of Directors\nAnnual Meeting\nAugust 19 2024 Meeting \n*Board of Director will have a retreat for Month of September. Meeting resumes in October 21\, 2024 \nPlease contact the Board’s Executive Administrative Assistant at (408) 341-3826 to confirm the zoom link and date.
URL:https://www.sanandreasregional.org/event/board-of-directors-meeting-41/
LOCATION:Via Zoom
CATEGORIES:Board of Directors
END:VEVENT
BEGIN:VEVENT
DTSTART;TZID=America/Los_Angeles:20240820T093000
DTEND;TZID=America/Los_Angeles:20240820T153000
DTSTAMP:20260420T061143
CREATED:20240722T044851Z
LAST-MODIFIED:20240722T045048Z
UID:63431-1724146200-1724167800@www.sanandreasregional.org
SUMMARY:Medication Safety
DESCRIPTION:Space is limited- 20 people maximum at this time. \n2 people per facility to allow for more agencies to attend. \n*Register each person separately \n→Bring your lunch and a drink! Lunch break is only 30 minutes \nPlease do not attend if you feel ill. Call or text Lisa 408-210-4526 \nhttps://sanandreasregional.seamlessdocs.com/f/082024MedReg
URL:https://www.sanandreasregional.org/event/medication-safety-6/
LOCATION:San Andreas Regional Center\, 6203 San Ignacio Ave\, Suite 200\, San Jose\, CA\, 95119\, United States
CATEGORIES:Health-Related Vendor Training
END:VEVENT
BEGIN:VEVENT
DTSTART;TZID=America/Los_Angeles:20240821T093000
DTEND;TZID=America/Los_Angeles:20240821T123000
DTSTAMP:20260420T061143
CREATED:20240722T044241Z
LAST-MODIFIED:20240722T044241Z
UID:63429-1724232600-1724243400@www.sanandreasregional.org
SUMMARY:Oral Health
DESCRIPTION:Space is limited- 20 people maximum at this time. \n2 people per facility to allow for more agencies to attend. \n*Register each person separately \nPlease do not attend if you feel ill. Call or text Lisa 408-210-4526 \nhttps://sanandreasregional.seamlessdocs.com/f/082124OHReg
URL:https://www.sanandreasregional.org/event/oral-health-8/
LOCATION:San Andreas Regional Center\, 6203 San Ignacio Ave\, Suite 200\, San Jose\, CA\, 95119\, United States
CATEGORIES:Health-Related Vendor Training
END:VEVENT
END:VCALENDAR