BEGIN:VCALENDAR
VERSION:2.0
PRODID:-//SARC - ECPv6.15.17//NONSGML v1.0//EN
CALSCALE:GREGORIAN
METHOD:PUBLISH
X-ORIGINAL-URL:https://www.sanandreasregional.org
X-WR-CALDESC:Events for SARC
REFRESH-INTERVAL;VALUE=DURATION:PT1H
X-Robots-Tag:noindex
X-PUBLISHED-TTL:PT1H
BEGIN:VTIMEZONE
TZID:America/Los_Angeles
BEGIN:DAYLIGHT
TZOFFSETFROM:-0800
TZOFFSETTO:-0700
TZNAME:PDT
DTSTART:20130310T100000
END:DAYLIGHT
BEGIN:STANDARD
TZOFFSETFROM:-0700
TZOFFSETTO:-0800
TZNAME:PST
DTSTART:20131103T090000
END:STANDARD
BEGIN:DAYLIGHT
TZOFFSETFROM:-0800
TZOFFSETTO:-0700
TZNAME:PDT
DTSTART:20140309T100000
END:DAYLIGHT
BEGIN:STANDARD
TZOFFSETFROM:-0700
TZOFFSETTO:-0800
TZNAME:PST
DTSTART:20141102T090000
END:STANDARD
BEGIN:DAYLIGHT
TZOFFSETFROM:-0800
TZOFFSETTO:-0700
TZNAME:PDT
DTSTART:20150308T100000
END:DAYLIGHT
BEGIN:STANDARD
TZOFFSETFROM:-0700
TZOFFSETTO:-0800
TZNAME:PST
DTSTART:20151101T090000
END:STANDARD
BEGIN:DAYLIGHT
TZOFFSETFROM:-0800
TZOFFSETTO:-0700
TZNAME:PDT
DTSTART:20160313T100000
END:DAYLIGHT
BEGIN:STANDARD
TZOFFSETFROM:-0700
TZOFFSETTO:-0800
TZNAME:PST
DTSTART:20161106T090000
END:STANDARD
BEGIN:DAYLIGHT
TZOFFSETFROM:-0800
TZOFFSETTO:-0700
TZNAME:PDT
DTSTART:20170312T100000
END:DAYLIGHT
BEGIN:STANDARD
TZOFFSETFROM:-0700
TZOFFSETTO:-0800
TZNAME:PST
DTSTART:20171105T090000
END:STANDARD
BEGIN:DAYLIGHT
TZOFFSETFROM:-0800
TZOFFSETTO:-0700
TZNAME:PDT
DTSTART:20180311T100000
END:DAYLIGHT
BEGIN:STANDARD
TZOFFSETFROM:-0700
TZOFFSETTO:-0800
TZNAME:PST
DTSTART:20181104T090000
END:STANDARD
BEGIN:DAYLIGHT
TZOFFSETFROM:-0800
TZOFFSETTO:-0700
TZNAME:PDT
DTSTART:20190310T100000
END:DAYLIGHT
BEGIN:STANDARD
TZOFFSETFROM:-0700
TZOFFSETTO:-0800
TZNAME:PST
DTSTART:20191103T090000
END:STANDARD
BEGIN:DAYLIGHT
TZOFFSETFROM:-0800
TZOFFSETTO:-0700
TZNAME:PDT
DTSTART:20200308T100000
END:DAYLIGHT
BEGIN:STANDARD
TZOFFSETFROM:-0700
TZOFFSETTO:-0800
TZNAME:PST
DTSTART:20201101T090000
END:STANDARD
END:VTIMEZONE
BEGIN:VEVENT
DTSTART;TZID=America/Los_Angeles:20191003T083000
DTEND;TZID=America/Los_Angeles:20191003T123000
DTSTAMP:20260425T054907
CREATED:20191003T215623Z
LAST-MODIFIED:20191104T234744Z
UID:50361-1570091400-1570105800@www.sanandreasregional.org
SUMMARY:Mini Residential Services Orientation (RSO)For Family Home Agencies (FHA)
DESCRIPTION:This required training is designed to introduce new Family Home Provider (FHA) employees to: \n\n The Regional Center System\nThe California State Title 17 regulations for a FHA and identify how the FHAs’ program design addresses these regulations.\nThe course requires attendant participation.\n\nInstructor for this course is Tom Yetter \nTrainings are repeated throughout the year and are posted on a quarterly basis. \nPlease remind staff when they are scheduled to attend! \nPlease also note that this RSO is NOT for people intending to provide care to people with I/DD in a licensed care home setting. It is for employees of Family Home Agencies vendored by San Andreas Regional Center
URL:https://www.sanandreasregional.org/event/mini-residential-services-orientation-rsofor-family-home-agencies-fha/
LOCATION:San Andreas Regional Center\, 6203 San Ignacio Ave\, Suite 200\, San Jose\, CA\, 95119\, United States
CATEGORIES:Service Providers Events
END:VEVENT
BEGIN:VEVENT
DTSTART;TZID=America/Los_Angeles:20190710T090000
DTEND;TZID=America/Los_Angeles:20190710T120000
DTSTAMP:20260425T054907
CREATED:20190709T232619Z
LAST-MODIFIED:20190710T001415Z
UID:40650-1562749200-1562760000@www.sanandreasregional.org
SUMMARY:CalFresh
DESCRIPTION:Join San Andreas on 7/10/19 for a workshop on the eligibility changes.   Please see flyer for details: CalFresh Workshop 7/10/19 \nBeginning June 2019\, SSI/SSP recipients will be eligible for CalFresh (SSI/SSP benefits will NOT decrease as a result). \nCalFresh rules include opportunities to maximize benefits and simplify the application process for people in specific situations. Below you’ll find an overview of CalFresh rules that apply to seniors and people with disabilities (including newly eligible SSI/SSP recipients) with specific examples that represent common situations. \n\nLearn more about the program here:  CF Rules for Seniors & People with Disabilities \n\n\nCal Fresh Website
URL:https://www.sanandreasregional.org/event/40650/
LOCATION:San Andreas Regional Center\, 6203 San Ignacio Ave\, Suite 200\, San Jose\, CA\, 95119\, United States
CATEGORIES:Community Services Training,Health-Related Vendor Training,Other,Resources Vendor Training,Service Providers Events
END:VEVENT
BEGIN:VEVENT
DTSTART;TZID=America/Los_Angeles:20190416T170000
DTEND;TZID=America/Los_Angeles:20190419T165900
DTSTAMP:20260425T054907
CREATED:20190222T182859Z
LAST-MODIFIED:20190327T141742Z
UID:29712-1555434000-1555693140@www.sanandreasregional.org
SUMMARY:test upcoming two
DESCRIPTION:Far far away\, behind the word mountains\, far from the countries Vokalia and Consonantia\, there live the blind texts. Separated they live in Bookmarksgrove right at the coast of the Semantics\, a large language ocean. Far far away\, behind the word mountains\, far from the countries Vokalia and Consonantia\, there live the blind texts. Separated they live in Bookmarksgrove. \nFar far away\, behind the word mountains\, far from the countries Vokalia and Consonantia\, there live the blind texts. Separated they live in Bookmarksgrove right at the coast of the Semantics\, a large language ocean. Far far away\, behind the word mountains\, far from the countries Vokalia and Consonantia\, there live the blind texts. Separated they live in Bookmarksgrove.
URL:https://www.sanandreasregional.org/event/test-upcoming-two/
LOCATION:San José City Hall Rotunda & Plaza\, 200 E. Santa Clara Street\, San José\, CA 95113\, San Jose\, CA\, 95113\, United States
CATEGORIES:Board of Directors,Service Providers Events
END:VEVENT
BEGIN:VEVENT
DTSTART;VALUE=DATE:20190224
DTEND;VALUE=DATE:20190226
DTSTAMP:20260425T054907
CREATED:20141111T075850Z
LAST-MODIFIED:20190307T094906Z
UID:24323-1551024000-1551110399@www.sanandreasregional.org
SUMMARY:Veterans Day - SARC Closed
DESCRIPTION:
URL:https://www.sanandreasregional.org/event/veterans-day-sarc-closed/
LOCATION:CA
CATEGORIES:Service Providers Events
END:VEVENT
BEGIN:VEVENT
DTSTART;TZID=America/Los_Angeles:20140911T040000
DTEND;TZID=America/Los_Angeles:20140911T053000
DTSTAMP:20260425T054907
CREATED:20140816T011119Z
LAST-MODIFIED:20190326T125904Z
UID:24064-1410408000-1410413400@www.sanandreasregional.org
SUMMARY:Vendor Fair - Salinas
DESCRIPTION:Far far away\, behind the word mountains\, far from the countries Vokalia and Consonantia\, there live the blind texts. Separated they live in Bookmarksgrove right at the coast of the Semantics\, a large language ocean. Far far away\, behind the word mountains\, far from the countries Vokalia and Consonantia\, there live the blind texts. Separated they live in Bookmarksgrove.
URL:https://www.sanandreasregional.org/event/vendor-fair-salinas/
LOCATION:Venue test one 3\, Venue test address three\, frmont\, 65984\, Angola
CATEGORIES:Service Providers Events
END:VEVENT
END:VCALENDAR