BEGIN:VCALENDAR
VERSION:2.0
PRODID:-//SARC - ECPv6.15.17//NONSGML v1.0//EN
CALSCALE:GREGORIAN
METHOD:PUBLISH
X-ORIGINAL-URL:https://www.sanandreasregional.org
X-WR-CALDESC:Events for SARC
REFRESH-INTERVAL;VALUE=DURATION:PT1H
X-Robots-Tag:noindex
X-PUBLISHED-TTL:PT1H
BEGIN:VTIMEZONE
TZID:America/Los_Angeles
BEGIN:DAYLIGHT
TZOFFSETFROM:-0800
TZOFFSETTO:-0700
TZNAME:PDT
DTSTART:20240310T100000
END:DAYLIGHT
BEGIN:STANDARD
TZOFFSETFROM:-0700
TZOFFSETTO:-0800
TZNAME:PST
DTSTART:20241103T090000
END:STANDARD
BEGIN:DAYLIGHT
TZOFFSETFROM:-0800
TZOFFSETTO:-0700
TZNAME:PDT
DTSTART:20250309T100000
END:DAYLIGHT
BEGIN:STANDARD
TZOFFSETFROM:-0700
TZOFFSETTO:-0800
TZNAME:PST
DTSTART:20251102T090000
END:STANDARD
BEGIN:DAYLIGHT
TZOFFSETFROM:-0800
TZOFFSETTO:-0700
TZNAME:PDT
DTSTART:20260308T100000
END:DAYLIGHT
BEGIN:STANDARD
TZOFFSETFROM:-0700
TZOFFSETTO:-0800
TZNAME:PST
DTSTART:20261101T090000
END:STANDARD
END:VTIMEZONE
BEGIN:VEVENT
DTSTART;TZID=America/Los_Angeles:20250314T100000
DTEND;TZID=America/Los_Angeles:20250314T120000
DTSTAMP:20260419T052011
CREATED:20250130T012538Z
LAST-MODIFIED:20250130T013852Z
UID:64806-1741946400-1741953600@www.sanandreasregional.org
SUMMARY:HCBS: AAC Communication Partner Training
DESCRIPTION:March 14\, 2025 10:00 to Noon \nAAC Communication Partner Training \nWatsonville SARC Office \nLearn about AAC and how to support communication for nonspeaking clients. Develop skills and strategies for teaching communication. Discover communication systems and resources available for AAC. \nTO ENROLL: Email Michelle Livoni and include your vendor Number mlivoni@sarc.org \nCEUs: 2
URL:https://www.sanandreasregional.org/event/64806/
LOCATION:San Andreas Regional Center Watsonville\, 1110 Main Street\, Watsonville\, CA\, 95076\, United States
CATEGORIES:Community Services Training,Community Training,Resources Vendor Training
END:VEVENT
BEGIN:VEVENT
DTSTART;TZID=America/Los_Angeles:20250319T090000
DTEND;TZID=America/Los_Angeles:20250319T120000
DTSTAMP:20260419T052011
CREATED:20250314T173815Z
LAST-MODIFIED:20250314T173815Z
UID:64974-1742374800-1742385600@www.sanandreasregional.org
SUMMARY:Program Design Workshop
DESCRIPTION:March 19\, 2025 9:00 to 12:30 \nProgram Design Workshop \nSan Jose SARC Office \nIn this workshop\, we will support you in updating your current program design on record with us to ensure compliance with HCBS expectations and vendoring requirements. You will also receive tools to help you with the process. \nTO ENROLL: Class filled. \nCEUs: None \n 
URL:https://www.sanandreasregional.org/event/program-design-workshop/
LOCATION:San Andreas Regional Center\, 6203 San Ignacio Ave\, Suite 200\, San Jose\, CA\, 95119\, United States
CATEGORIES:Community Services Training,Community Training,Resources Vendor Training
END:VEVENT
BEGIN:VEVENT
DTSTART;TZID=America/Los_Angeles:20250326T090000
DTEND;TZID=America/Los_Angeles:20250416T120000
DTSTAMP:20260419T052011
CREATED:20250313T004243Z
LAST-MODIFIED:20250313T004243Z
UID:64962-1742979600-1744804800@www.sanandreasregional.org
SUMMARY:Supported Decision - Making Series
DESCRIPTION:March 26 – April 16\, 2025  – 9:00 to Noon \nSupported Decision – Making Series \nVia Zoom  \nDevelop skills for conversations about different decision-making options\, explore how to develop Supported Decision-Making Agreements\, and understand how to support people to be the decision-makers of their own lives. \nTO ENROLL: Enrollment QR Code emailed by Michelle Livoni mlivoni@sarc.org \nCEUs: None
URL:https://www.sanandreasregional.org/event/supported-decision-making-series/
LOCATION:Via Zoom
CATEGORIES:Community Services Training,Community Training,Resources Vendor Training
END:VEVENT
END:VCALENDAR