BEGIN:VCALENDAR
VERSION:2.0
PRODID:-//SARC - ECPv6.15.17//NONSGML v1.0//EN
CALSCALE:GREGORIAN
METHOD:PUBLISH
X-ORIGINAL-URL:https://www.sanandreasregional.org
X-WR-CALDESC:Events for SARC
REFRESH-INTERVAL;VALUE=DURATION:PT1H
X-Robots-Tag:noindex
X-PUBLISHED-TTL:PT1H
BEGIN:VTIMEZONE
TZID:America/Los_Angeles
BEGIN:DAYLIGHT
TZOFFSETFROM:-0800
TZOFFSETTO:-0700
TZNAME:PDT
DTSTART:20240310T100000
END:DAYLIGHT
BEGIN:STANDARD
TZOFFSETFROM:-0700
TZOFFSETTO:-0800
TZNAME:PST
DTSTART:20241103T090000
END:STANDARD
BEGIN:DAYLIGHT
TZOFFSETFROM:-0800
TZOFFSETTO:-0700
TZNAME:PDT
DTSTART:20250309T100000
END:DAYLIGHT
BEGIN:STANDARD
TZOFFSETFROM:-0700
TZOFFSETTO:-0800
TZNAME:PST
DTSTART:20251102T090000
END:STANDARD
BEGIN:DAYLIGHT
TZOFFSETFROM:-0800
TZOFFSETTO:-0700
TZNAME:PDT
DTSTART:20260308T100000
END:DAYLIGHT
BEGIN:STANDARD
TZOFFSETFROM:-0700
TZOFFSETTO:-0800
TZNAME:PST
DTSTART:20261101T090000
END:STANDARD
END:VTIMEZONE
BEGIN:VEVENT
DTSTART;TZID=America/Los_Angeles:20250520T090000
DTEND;TZID=America/Los_Angeles:20250520T120000
DTSTAMP:20260419T221944
CREATED:20250409T234303Z
LAST-MODIFIED:20250409T234534Z
UID:65110-1747731600-1747742400@www.sanandreasregional.org
SUMMARY:Program Design Workshop
DESCRIPTION:May 20\, 2025 9:00 to Noon\nProgram Design Workshop\nVirtual via Zoom \nLearn about AAC and how to support communication for nonspeaking clients. Develop skills and strategies for teaching communication. Discover communication systems and resources available for AAC. \nTO ENROLL: Email Michelle Livoni and include your vendor Number mlivoni@sarc.org \nCEUs: 2
URL:https://www.sanandreasregional.org/event/program-design-workshop-3/
LOCATION:Via Zoom
CATEGORIES:Community Services Training,Community Training
END:VEVENT
END:VCALENDAR