BEGIN:VCALENDAR
VERSION:2.0
PRODID:-//SARC - ECPv6.15.17//NONSGML v1.0//EN
CALSCALE:GREGORIAN
METHOD:PUBLISH
X-ORIGINAL-URL:https://www.sanandreasregional.org
X-WR-CALDESC:Events for SARC
REFRESH-INTERVAL;VALUE=DURATION:PT1H
X-Robots-Tag:noindex
X-PUBLISHED-TTL:PT1H
BEGIN:VTIMEZONE
TZID:America/Los_Angeles
BEGIN:DAYLIGHT
TZOFFSETFROM:-0800
TZOFFSETTO:-0700
TZNAME:PDT
DTSTART:20210314T100000
END:DAYLIGHT
BEGIN:STANDARD
TZOFFSETFROM:-0700
TZOFFSETTO:-0800
TZNAME:PST
DTSTART:20211107T090000
END:STANDARD
BEGIN:DAYLIGHT
TZOFFSETFROM:-0800
TZOFFSETTO:-0700
TZNAME:PDT
DTSTART:20220313T100000
END:DAYLIGHT
BEGIN:STANDARD
TZOFFSETFROM:-0700
TZOFFSETTO:-0800
TZNAME:PST
DTSTART:20221106T090000
END:STANDARD
BEGIN:DAYLIGHT
TZOFFSETFROM:-0800
TZOFFSETTO:-0700
TZNAME:PDT
DTSTART:20230312T100000
END:DAYLIGHT
BEGIN:STANDARD
TZOFFSETFROM:-0700
TZOFFSETTO:-0800
TZNAME:PST
DTSTART:20231105T090000
END:STANDARD
END:VTIMEZONE
BEGIN:VEVENT
DTSTART;TZID=America/Los_Angeles:20220503T160000
DTEND;TZID=America/Los_Angeles:20220503T180000
DTSTAMP:20260419T091650
CREATED:20220311T023621Z
LAST-MODIFIED:20220311T023621Z
UID:57042-1651593600-1651600800@www.sanandreasregional.org
SUMMARY:Program Policy Meeting
DESCRIPTION:Program Policy Meeting \nPlease contact the Board’s Executive Administrative Assistant at (408) 341-3826 to confirm the meeting date\, location\, or Zoom invite.
URL:https://www.sanandreasregional.org/event/program-policy-meeting-3/
LOCATION:Via Zoom
CATEGORIES:Committee Meetings
END:VEVENT
BEGIN:VEVENT
DTSTART;TZID=America/Los_Angeles:20220503T163000
DTEND;TZID=America/Los_Angeles:20220503T183000
DTSTAMP:20260419T091650
CREATED:20220309T004604Z
LAST-MODIFIED:20220309T004604Z
UID:56944-1651595400-1651602600@www.sanandreasregional.org
SUMMARY:Board Development Committee Meeting
DESCRIPTION:Board Development Committee Meeting \nPlease contact the Board’s Executive Administrative Assistant at (408) 341-3826 to confirm the meeting date\, location\, or Zoom invite.
URL:https://www.sanandreasregional.org/event/board-development-committee-meeting-2/
LOCATION:Via Zoom
CATEGORIES:Committee Meetings
END:VEVENT
BEGIN:VEVENT
DTSTART;TZID=America/Los_Angeles:20220503T170000
DTEND;TZID=America/Los_Angeles:20220503T190000
DTSTAMP:20260419T091650
CREATED:20220309T005604Z
LAST-MODIFIED:20220309T005604Z
UID:56968-1651597200-1651604400@www.sanandreasregional.org
SUMMARY:Executive Committee Meeting
DESCRIPTION:Executive Committee Meeting \nPlease contact the Board’s Executive Administrative Assistant at (408) 341-3826 to confirm the meeting date\, location\, or Zoom invite.
URL:https://www.sanandreasregional.org/event/executive-committee-meeting-2/
LOCATION:Via Zoom
CATEGORIES:Committee Meetings
END:VEVENT
BEGIN:VEVENT
DTSTART;TZID=America/Los_Angeles:20220510T160000
DTEND;TZID=America/Los_Angeles:20220510T180000
DTSTAMP:20260419T091650
CREATED:20220309T010146Z
LAST-MODIFIED:20220309T010146Z
UID:56984-1652198400-1652205600@www.sanandreasregional.org
SUMMARY:Quality Assurance Committee Meeting
DESCRIPTION:Quality Assurance Committee Meeting \n  \nPlease contact the Board’s Executive Administrative Assistant at (408) 341-3826 to confirm the meeting date\, location\, or Zoom invite. \n 
URL:https://www.sanandreasregional.org/event/quality-assurance-committee-meeting-3/
LOCATION:Via Zoom
CATEGORIES:Committee Meetings
END:VEVENT
BEGIN:VEVENT
DTSTART;TZID=America/Los_Angeles:20220516T160000
DTEND;TZID=America/Los_Angeles:20220516T180000
DTSTAMP:20260419T091650
CREATED:20220309T010823Z
LAST-MODIFIED:20220309T010823Z
UID:57000-1652716800-1652724000@www.sanandreasregional.org
SUMMARY:Fiscal Committee Meeting
DESCRIPTION:Fiscal Committee  Meeting \nPlease contact the Board’s Executive Administrative Assistant at (408) 341-3826 to confirm the meeting date\, location\, or Zoom invite.
URL:https://www.sanandreasregional.org/event/fiscal-committee-meeting-3/
LOCATION:Via Zoom
CATEGORIES:Committee Meetings
END:VEVENT
BEGIN:VEVENT
DTSTART;TZID=America/Los_Angeles:20220525T100000
DTEND;TZID=America/Los_Angeles:20220525T120000
DTSTAMP:20260419T091650
CREATED:20220311T021019Z
LAST-MODIFIED:20220311T021019Z
UID:57026-1653472800-1653480000@www.sanandreasregional.org
SUMMARY:Service Provider Advisory Committee (SPAC) Meeting
DESCRIPTION:Service Provider Advisory Committee (SPAC) Meeting \nPlease contact the Board’s Executive Administrative Assistant at (408) 341-3826 to confirm the meeting date\, location\, or Zoom invite.
URL:https://www.sanandreasregional.org/event/service-provider-advisory-committee-spac-meeting-3/
LOCATION:Via Zoom
CATEGORIES:Committee Meetings
END:VEVENT
END:VCALENDAR